BEGIN:VCALENDAR
VERSION:2.0
BEGIN:VEVENT
DTSTART;TZID=Europe/Stockholm:20260617T103000
DTEND;TZID=Europe/Stockholm:20260617T113000
DTSTAMP:20260419T215820
DESCRIPTION:Vi ber till klockan 11:30.
SEQUENCE:0
SUMMARY:BÖN
UID:7477@lawebb.se
END:VEVENT
END:VCALENDAR