BEGIN:VCALENDAR
VERSION:2.0
BEGIN:VEVENT
DTSTART;TZID=Europe/Stockholm:20260630T143000
DTEND;TZID=Europe/Stockholm:20260630T153000
DTSTAMP:20260419T220120
DESCRIPTION:Välkomna att lyssna på en enkel andakt Brunnsgården.
Pingstkyrkan ansvarar.
SEQUENCE:0
SUMMARY:ANDAKT PÅ BRUNNSGÅRDEN
UID:8399@lawebb.se
END:VEVENT
END:VCALENDAR