BEGIN:VCALENDAR
VERSION:2.0
BEGIN:VEVENT
DTSTART;TZID=Europe/Stockholm:20260712T103000
DTEND;TZID=Europe/Stockholm:20260712T113000
DTSTAMP:20260420T000004
DESCRIPTION:
SEQUENCE:0
SUMMARY:GUDSTJÄNST I BETELKYRKAN
UID:5599@lawebb.se
END:VEVENT
END:VCALENDAR