BEGIN:VCALENDAR
VERSION:2.0
BEGIN:VEVENT
DTSTART;TZID=Europe/Stockholm:20260715T103000
DTEND;TZID=Europe/Stockholm:20260715T113000
DTSTAMP:20260419T235752
DESCRIPTION:Vi ber till klockan 11:30.
SEQUENCE:0
SUMMARY:BÖN
UID:9828@lawebb.se
END:VEVENT
END:VCALENDAR