BEGIN:VCALENDAR
VERSION:2.0
BEGIN:VEVENT
DTSTART;TZID=Europe/Stockholm:20260719T103000
DTEND;TZID=Europe/Stockholm:20260719T113000
DTSTAMP:20260420T000005
DESCRIPTION:
SEQUENCE:0
SUMMARY:GUDSTJÄNST I EQUMENIAKYRKAN
UID:5237@lawebb.se
END:VEVENT
END:VCALENDAR