BEGIN:VCALENDAR
VERSION:2.0
BEGIN:VEVENT
DTSTART;TZID=Europe/Stockholm:20260726T103000
DTEND;TZID=Europe/Stockholm:20260726T113000
DTSTAMP:20260420T000004
DESCRIPTION:Sång av Percy Bergman och Therese Hasselgren.
Lovsång, predikan, bön/förbön och gemenskap. 
#Kyrkkaffe efter gudstjänsten.# 
*Alla varmt välkomna!*
SEQUENCE:0
SUMMARY:GUDSTJÄNST I PINGSTKYRKAN
UID:9754@lawebb.se
END:VEVENT
END:VCALENDAR