BEGIN:VCALENDAR
VERSION:2.0
BEGIN:VEVENT
DTSTART;TZID=Europe/Stockholm:20260802T103000
DTEND;TZID=Europe/Stockholm:20260802T113000
DTSTAMP:20260420T013910
DESCRIPTION:Sång av Niclas och Karin Eriksson.
Lovsång, predikan, bön/förbön och gemenskap. 
#Kyrkkaffe efter gudstjänsten.# 
*Alla varmt välkomna!*
SEQUENCE:0
SUMMARY:GUDSTJÄNST
UID:9878@lawebb.se
END:VEVENT
END:VCALENDAR