BEGIN:VCALENDAR
VERSION:2.0
BEGIN:VEVENT
DTSTART;TZID=Europe/Stockholm:20260816T103000
DTEND;TZID=Europe/Stockholm:20260816T113000
DTSTAMP:20260420T013909
DESCRIPTION:
SEQUENCE:0
SUMMARY:GEMENSAM GUDSTJÄNST PÅ TORGET
UID:9387@lawebb.se
END:VEVENT
END:VCALENDAR