BEGIN:VCALENDAR
VERSION:2.0
BEGIN:VEVENT
DTSTART;TZID=Europe/Stockholm:20260823T103000
DTEND;TZID=Europe/Stockholm:20260823T113000
DTSTAMP:20260420T013909
DESCRIPTION:Sång av Sara Eriksson med flera.
Lovsång, predikan, bön/förbön och gemenskap. 
#Kyrkkaffe efter gudstjänsten.# 
*Alla varmt välkomna!*
SEQUENCE:0
SUMMARY:GUDSTJÄNST MED NATTVARD
UID:4944@lawebb.se
END:VEVENT
END:VCALENDAR