BEGIN:VCALENDAR
VERSION:2.0
BEGIN:VEVENT
DTSTART;TZID=Europe/Stockholm:20260927T103000
DTEND;TZID=Europe/Stockholm:20260927T113000
DTSTAMP:20260420T032152
DESCRIPTION:BUS-bandet medverkar.
#Kyrkkaffe efter gudstjänsten.# 
*Alla varmt välkomna!*
SEQUENCE:0
SUMMARY:TILLSAMMANSGUDSTJÄNST
UID:2449@lawebb.se
END:VEVENT
END:VCALENDAR