BEGIN:VCALENDAR
VERSION:2.0
BEGIN:VEVENT
DTSTART;TZID=Europe/Stockholm:20260930T103000
DTEND;TZID=Europe/Stockholm:20260930T113000
DTSTAMP:20260420T031828
DESCRIPTION:Vi ber till klockan 11:30.
SEQUENCE:0
SUMMARY:BÖN
UID:4854@lawebb.se
END:VEVENT
END:VCALENDAR