BEGIN:VCALENDAR
VERSION:2.0
BEGIN:VEVENT
DTSTART;TZID=Europe/Stockholm:20261007T103000
DTEND;TZID=Europe/Stockholm:20261007T113000
DTSTAMP:20260420T050639
DESCRIPTION:Vi ber till klockan 11:30.
SEQUENCE:0
SUMMARY:BÖN
UID:6836@lawebb.se
END:VEVENT
END:VCALENDAR