BEGIN:VCALENDAR
VERSION:2.0
BEGIN:VEVENT
DTSTART;TZID=Europe/Stockholm:20261017T000000
DTEND;TZID=Europe/Stockholm:20261017T240000
DTSTAMP:20260420T050639
DESCRIPTION:Mer information kommer senare.
SEQUENCE:0
SUMMARY:EKUMENISK BIBELHELG
UID:2625@lawebb.se
END:VEVENT
END:VCALENDAR