BEGIN:VCALENDAR
VERSION:2.0
BEGIN:VEVENT
DTSTART;TZID=Europe/Stockholm:20261025T103000
DTEND;TZID=Europe/Stockholm:20261025T113000
DTSTAMP:20260420T051102
DESCRIPTION:Sång/lovsång, predikan, bön/förbön och gemenskap. 
#Kyrkkaffe efter gudstjänsten.# 
*Alla varmt välkomna!*
SEQUENCE:0
SUMMARY:GUDSTJÄNST
UID:9292@lawebb.se
END:VEVENT
END:VCALENDAR