BEGIN:VCALENDAR
VERSION:2.0
BEGIN:VEVENT
DTSTART;TZID=Europe/Stockholm:20261101T103000
DTEND;TZID=Europe/Stockholm:20261101T113000
DTSTAMP:20260420T064854
DESCRIPTION:Sång/lovsång, predikan, bön/förbön och gemenskap. 
#Kyrkkaffe efter gudstjänsten.# 
*Alla varmt välkomna!*
SEQUENCE:0
SUMMARY:GUDSTJÄNST
UID:7272@lawebb.se
END:VEVENT
END:VCALENDAR