BEGIN:VCALENDAR
VERSION:2.0
BEGIN:VEVENT
DTSTART;TZID=Europe/Stockholm:20261122T103000
DTEND;TZID=Europe/Stockholm:20261122T113000
DTSTAMP:20260420T064914
DESCRIPTION:Vi får besök av Michael Jeff Johnsson.
Sång/lovsång, predikan, bön/förbön och gemenskap. 
#Kyrkkaffe efter gudstjänsten.# 
*Alla varmt välkomna!*
SEQUENCE:0
SUMMARY:GUDSTJÄNST
UID:3394@lawebb.se
END:VEVENT
END:VCALENDAR