BEGIN:VCALENDAR
VERSION:2.0
BEGIN:VEVENT
DTSTART;TZID=Europe/Stockholm:20261213T103000
DTEND;TZID=Europe/Stockholm:20261213T113000
DTSTAMP:20260420T082650
DESCRIPTION:BUS-bandet medverkar.
#Kyrkkaffe efter gudstjänsten.# 
*Alla varmt välkomna!*
SEQUENCE:0
SUMMARY:TILLSAMMANSGUDSTJÄNST
UID:5235@lawebb.se
END:VEVENT
END:VCALENDAR