BEGIN:VCALENDAR
VERSION:2.0
BEGIN:VEVENT
DTSTART;TZID=Europe/Stockholm:20261220T103000
DTEND;TZID=Europe/Stockholm:20261220T113000
DTSTAMP:20260420T082656
DESCRIPTION:Sång/lovsång, predikan, bön/förbön och gemenskap. 
#Kyrkkaffe efter gudstjänsten.# 
*Alla varmt välkomna!*
SEQUENCE:0
SUMMARY:GUDSTJÄNST MED NATTVARD
UID:2954@lawebb.se
END:VEVENT
END:VCALENDAR